BEGIN:VCALENDAR
VERSION:2.0
PRODID:spatie/icalendar-generator
DESCRIPTION:Veranstaltungen von Energie Genossenschaft Zimmerberg
X-WR-CALDESC:Veranstaltungen von Energie Genossenschaft Zimmerberg
REFRESH-INTERVAL;VALUE=DURATION:PT1440M
X-PUBLISHED-TTL:PT1440M
BEGIN:VTIMEZONE
TZID:Europe/Zurich
BEGIN:STANDARD
DTSTART:20241027T030000Z
TZOFFSETFROM:+0200
TZOFFSETTO:+0100
END:STANDARD
BEGIN:DAYLIGHT
DTSTART:20250330T020000Z
TZOFFSETFROM:+0100
TZOFFSETTO:+0200
END:DAYLIGHT
BEGIN:STANDARD
DTSTART:20251026T030000Z
TZOFFSETFROM:+0200
TZOFFSETTO:+0100
END:STANDARD
END:VTIMEZONE
BEGIN:VTIMEZONE
TZID:UTC
BEGIN:STANDARD
DTSTART:20250725T215301Z
TZOFFSETFROM:+0000
TZOFFSETTO:+0000
END:STANDARD
END:VTIMEZONE
BEGIN:VEVENT
UID:9-9
DTSTAMP:20260421T215301Z
SUMMARY:Infoveranstaltung «starte!» | Otelfingen
LOCATION:
ORGANIZER;CN=a.maeder:MAILTO:a.maeder@e-zimmerberg.ch
DTSTART;TZID=Europe/Zurich:20250703T170000
DTEND;TZID=Europe/Zurich:20250703T210000
X-ALT-DESC;FMTTYPE=TEXT/HTML:
CATEGORIES:starte!
URL;VALUE=URI:https://e-zimmerberg.ch/mc-events/infoveranstaltung-starte-ot
 elfingen/
METHOD:PUBLISH
END:VEVENT
END:VCALENDAR