BEGIN:VCALENDAR
VERSION:2.0
PRODID:spatie/icalendar-generator
DESCRIPTION:Veranstaltungen von Energie Genossenschaft Zimmerberg
X-WR-CALDESC:Veranstaltungen von Energie Genossenschaft Zimmerberg
REFRESH-INTERVAL;VALUE=DURATION:PT1440M
X-PUBLISHED-TTL:PT1440M
BEGIN:VTIMEZONE
TZID:Europe/Zurich
BEGIN:DAYLIGHT
DTSTART:20250330T020000Z
TZOFFSETFROM:+0100
TZOFFSETTO:+0200
END:DAYLIGHT
BEGIN:STANDARD
DTSTART:20251026T030000Z
TZOFFSETFROM:+0200
TZOFFSETTO:+0100
END:STANDARD
BEGIN:DAYLIGHT
DTSTART:20260329T020000Z
TZOFFSETFROM:+0100
TZOFFSETTO:+0200
END:DAYLIGHT
END:VTIMEZONE
BEGIN:VTIMEZONE
TZID:UTC
BEGIN:STANDARD
DTSTART:20250725T171831Z
TZOFFSETFROM:+0000
TZOFFSETTO:+0000
END:STANDARD
END:VTIMEZONE
BEGIN:VEVENT
UID:14-6
DTSTAMP:20260421T171831Z
SUMMARY:EGZ-Apéro «Energie- und klimabewusste Ernährung»
LOCATION:EGZ Mülenen Seestrasse 78  Richterswil  8805
ORGANIZER;CN=a.maeder:MAILTO:a.maeder@e-zimmerberg.ch
DTSTART;TZID=Europe/Zurich:20251204T173000
DTEND;TZID=Europe/Zurich:20251204T210000
X-ALT-DESC;FMTTYPE=TEXT/HTML:Beginn Vortrag 18'30.
CATEGORIES:EGZ-Apéro
URL;VALUE=URI:https://e-zimmerberg.ch/mc-events/egz-apero-energie-und-klima
 bewusste-ernaehrung/
METHOD:PUBLISH
END:VEVENT
END:VCALENDAR