BEGIN:VCALENDAR
VERSION:2.0
PRODID:spatie/icalendar-generator
DESCRIPTION:Veranstaltungen von Energie Genossenschaft Zimmerberg
X-WR-CALDESC:Veranstaltungen von Energie Genossenschaft Zimmerberg
REFRESH-INTERVAL;VALUE=DURATION:PT1440M
X-PUBLISHED-TTL:PT1440M
BEGIN:VTIMEZONE
TZID:Europe/Zurich
BEGIN:STANDARD
DTSTART:20251026T030000Z
TZOFFSETFROM:+0200
TZOFFSETTO:+0100
END:STANDARD
BEGIN:DAYLIGHT
DTSTART:20260329T020000Z
TZOFFSETFROM:+0100
TZOFFSETTO:+0200
END:DAYLIGHT
END:VTIMEZONE
BEGIN:VTIMEZONE
TZID:UTC
BEGIN:STANDARD
DTSTART:20250725T133243Z
TZOFFSETFROM:+0000
TZOFFSETTO:+0000
END:STANDARD
END:VTIMEZONE
BEGIN:VEVENT
UID:11-4
DTSTAMP:20260421T133243Z
SUMMARY:Workshop «Über Klimafragen sprechen»
LOCATION:EGZ Mülenen Seestrasse 78  Richterswil  8805
ORGANIZER;CN=a.maeder:MAILTO:a.maeder@e-zimmerberg.ch
DTSTART;TZID=Europe/Zurich:20260331T150000
DTEND;TZID=Europe/Zurich:20260331T183000
X-ALT-DESC;FMTTYPE=TEXT/HTML:Einsichten und Tipps für bessere Gespräche K
 lima- und Energiefragen führen oft zu emotionalen und schwierigen Gesprä
 chen. Dieser Workshop vermittelt praxisnahe Tipps\, wie solche Gespräche 
 wertschätzend\, ruhig und wirkungsvoll geführt werden können. Die Teiln
 ehmenden lernen zentrale Grundlagen der Klimapsychologie kennen\, reflekti
 eren ihre eigene Haltung und üben anhand von Rollenspielen konkrete Gespr
 ächsstrategien für den Alltag. Workshopinhalt Kurzer&amp;hellip\;
CATEGORIES:Anlass
URL;VALUE=URI:https://e-zimmerberg.ch/mc-events/workshop-ueber-klimafragen-
 sprechen/
METHOD:PUBLISH
END:VEVENT
END:VCALENDAR